BEGIN:VCALENDAR
VERSION:2.0
PRODID:-//eventon.com NONSGML v1.0//EN
BEGIN:VEVENT
UID:69e86b512f215
DTSTAMP:20260422T063145
DTSTART:20210417T080000Z
DTEND:20210417T190000Z
LOCATION:
SUMMARY:2021 Spring Cleanup
DESCRIPTION: Volunteers needed for the cleanup on April 17th and April 24th.  We ask that volunteers choose one weekend and work only up to 4 hours.  If you can help contact Greg Borland 814-229-4092\,  Bill Moore 703-371-2646 or Ken Gilbert 814-316-1191.
END:VEVENT
END:VCALENDAR